BEGIN:VCALENDAR
VERSION:2.0
PRODID:-//wp-events-plugin.com//6.6.3//EN
TZID:Europe/Berlin
X-WR-TIMEZONE:Europe/Berlin
BEGIN:VEVENT
UID:4@binabaumeister.com
DTSTART;TZID=Europe/Berlin:20191206T143000
DTEND;TZID=Europe/Berlin:20191206T160000
DTSTAMP:20191205T062925Z
URL:https://binabaumeister.com/events/flanieren-im-botanischen-garten-2019
 -12-06/
SUMMARY:Flanieren im Botanischen Garten
DESCRIPTION:Jeden geraden Freitag\, gibt es einen flanier Spaziergang durch
  den Botanischen Garten in Mainz.\n\nAktuelle Pflanzenporträts und Themen
  die mit sich mit dem eigenen Ziel beschäftigen werden aufgegriffen.\n\nA
 uch ist es eine Gelegenheit\, bei Wunsch\, Fotos aufzunehmen.\n\nIch pers
 önlich laufe dahin.\n\nEs gehen auch alle Bussen und Straßenbahn Linien\
 , die zur Universität fahren.\n\nUm Anmeldung wird gebeten.\n\nDanach kö
 nnen wir noch im "Baron" einkehren\, für ein warmes Getränk. Bei günsti
 ger Witterung gibt es im Botanischen Garten geeignete Sitzmöglichkeiten u
 m sich auch selbst zu Verköstigen.\n\n&nbsp\;\n\nHerzlichen Dank\n\nBina
ATTACH;FMTTYPE=image/jpeg:https://binabaumeister.com/wp-content/uploads/20
 19/11/Himmel-Web-Face-19-11-2019-06.jpg
CATEGORIES:Praktisches Tun
LOCATION:Botanischer Garten in Mainz\, Anselm-Franz-von-Bentzel-Weg 9\, Mai
 nz\, Rheinland Pfalz\, 55128\, Johannes Gutenberg-Universität Mainz\, Deu
 tschland
X-APPLE-STRUCTURED-LOCATION;VALUE=URI;X-ADDRESS=Anselm-Franz-von-Bentzel-We
 g 9\, Mainz\, Rheinland Pfalz\, 55128\, Johannes Gutenberg-Universität Ma
 inz\, Deutschland;X-APPLE-RADIUS=100;X-TITLE=Botanischer Garten in Mainz:g
 eo:0,0
END:VEVENT
BEGIN:VTIMEZONE
TZID:Europe/Berlin
X-LIC-LOCATION:Europe/Berlin
BEGIN:STANDARD
DTSTART:20191027T020000
TZOFFSETFROM:+0200
TZOFFSETTO:+0100
TZNAME:CET
END:STANDARD
END:VTIMEZONE
END:VCALENDAR