BEGIN:VCALENDAR
VERSION:2.0
PRODID:-//wp-events-plugin.com//6.6.3//EN
TZID:Europe/Berlin
X-WR-TIMEZONE:Europe/Berlin
BEGIN:VEVENT
UID:16@binabaumeister.com
DTSTART;TZID=Europe/Berlin:20200114T081500
DTEND;TZID=Europe/Berlin:20200114T131500
DTSTAMP:20191205T064156Z
URL:https://binabaumeister.com/events/die-3-bereiche-2020-01-14/
SUMMARY:die 3 Bereiche
DESCRIPTION:bei mir daheim am Buchenholz Küchentisch\, oder bei guter\n\nW
 itterung im Stadtgarten "Kasskara". Beleuchten wir die 3 Bereiche\, die Du
  auf meiner "Start" Seite lesen kannst.\n\nWir nehmen miteinander teil an 
 der Fern Universität des Lebens  (hören)\; lebendige Lebens und Lern Ge
 schichten.\n\nAnschließend gibt es Raum für Mitteilung und wir setzten d
 irekt eine gehörte Sache in die Tat um. (z.B. Bilder für eine Ziel Colla
 ge)\n\nWasser und Tee sowie ein Shaki\, Nüsse oder eine kleine Speise run
 den diese Zeit ab.\n\nWir lassen es offen\, ob wir mit einem Spaziergang 
  oder einer Aktivität für Seelisches Wohlbefinden den Morgen ausklingen
  lassen.\n\nUm eine Anmeldung wird gebeten.\n\nHerzlicht\n\nBina
ATTACH;FMTTYPE=image/jpeg:https://binabaumeister.com/wp-content/uploads/20
 19/12/Gluecksprinzip-Blatt-1-von-5-Pix.jpg
CATEGORIES:Fernuniversität des Lebens,Schütteln, mixen, rühren
LOCATION:Daheim\, Kasskara\, Adelungstraße 24\, Mainz\, Rheinland-PFalz\, 
 55131\, Oberstadt\, Deutschland
X-APPLE-STRUCTURED-LOCATION;VALUE=URI;X-ADDRESS=Adelungstraße 24\, Mainz\,
  Rheinland-PFalz\, 55131\, Oberstadt\, Deutschland;X-APPLE-RADIUS=100;X-TI
 TLE=Daheim\, Kasskara:geo:0,0
END:VEVENT
BEGIN:VTIMEZONE
TZID:Europe/Berlin
X-LIC-LOCATION:Europe/Berlin
BEGIN:STANDARD
DTSTART:20191027T020000
TZOFFSETFROM:+0200
TZOFFSETTO:+0100
TZNAME:CET
END:STANDARD
END:VTIMEZONE
END:VCALENDAR